BEGIN:VCALENDAR
VERSION:2.0
PRODID:-//ДРУЗЬЯ - ECPv6.10.3//NONSGML v1.0//EN
CALSCALE:GREGORIAN
METHOD:PUBLISH
X-WR-CALNAME:ДРУЗЬЯ
X-ORIGINAL-URL:https://friendsteam.ru
X-WR-CALDESC:Мероприятия для ДРУЗЬЯ
REFRESH-INTERVAL;VALUE=DURATION:PT1H
X-Robots-Tag:noindex
X-PUBLISHED-TTL:PT1H
BEGIN:VTIMEZONE
TZID:Europe/Moscow
BEGIN:STANDARD
TZOFFSETFROM:+0300
TZOFFSETTO:+0300
TZNAME:MSK
DTSTART:20250101T000000
END:STANDARD
END:VTIMEZONE
BEGIN:VEVENT
DTSTART;VALUE=DATE:20251207
DTEND;VALUE=DATE:20251208
DTSTAMP:20260421T032714
CREATED:20251110T123720Z
LAST-MODIFIED:20251110T123720Z
UID:56870-1765065600-1765151999@friendsteam.ru
SUMMARY:ЧЕРЕЗ СКИТ В ЛАВРУ
DESCRIPTION:Наш путь в Троице-Сергиеву Лавру будет весьма необычным — мы пойдем по живописным дорогам\, лесным дорожкам\, тропам и тропинкам через Гефсиманский Черниговский Скит. На нашем пути будут озера и пруды\, лесопарки и конечно же\, много леса\, в котором в начале прошлого века любил охотиться знаменитый писатель Михаил Пришвин. (Московская область)  \n17 км / 2200 ₽ / 1 день
URL:https://friendsteam.ru/travel/cherez-skit-v-lavru-23/
CATEGORIES:Подмосковье
END:VEVENT
BEGIN:VEVENT
DTSTART;VALUE=DATE:20251206
DTEND;VALUE=DATE:20251207
DTSTAMP:20260421T032714
CREATED:20250428T121112Z
LAST-MODIFIED:20251217T123212Z
UID:49682-1764979200-1765065599@friendsteam.ru
SUMMARY:FRIENDS TEAM ULTRA 50
DESCRIPTION:В походе FRIENDS TEAM ULTRA 50 мы сделаем именно это – пройдем пешком 50 км за один день. Наш путь пройдет по диким и комфортным тропинкам и тропам\, дорогам и дорожкам. Маршрут несложный\, проходимая пересеченная местность и немного городской населёнки. Красивейший – именно этот эпитет наиболее подходит к нашему ультрамарафону! (Москва и Подмосковье) \n50 км / 4500 ₽ / 1 день
URL:https://friendsteam.ru/travel/friends-team-ultra-50-11/
CATEGORIES:Восхождения
END:VEVENT
END:VCALENDAR