BEGIN:VCALENDAR
VERSION:2.0
PRODID:-//ДРУЗЬЯ - ECPv6.10.3//NONSGML v1.0//EN
CALSCALE:GREGORIAN
METHOD:PUBLISH
X-WR-CALNAME:ДРУЗЬЯ
X-ORIGINAL-URL:https://friendsteam.ru
X-WR-CALDESC:Мероприятия для ДРУЗЬЯ
REFRESH-INTERVAL;VALUE=DURATION:PT1H
X-Robots-Tag:noindex
X-PUBLISHED-TTL:PT1H
BEGIN:VTIMEZONE
TZID:Europe/Moscow
BEGIN:STANDARD
TZOFFSETFROM:+0300
TZOFFSETTO:+0300
TZNAME:MSK
DTSTART:20260101T000000
END:STANDARD
END:VTIMEZONE
BEGIN:VEVENT
DTSTART;VALUE=DATE:20260430
DTEND;VALUE=DATE:20260501
DTSTAMP:20260421T031229
CREATED:20260406T110911Z
LAST-MODIFIED:20260406T110911Z
UID:60579-1777507200-1777593599@friendsteam.ru
SUMMARY:АРХЕТИПЫ АВАНГАРДА
DESCRIPTION:Авангард и психоанализ! Приглашаем вас посмотреть на искусство русского авангарда через призму теории архетипов. При помощи которой мы раскроем характеры художников и логику их творчества. Мы рассмотрим произведения: Михаила Ларионова\, Василия Кандинского\, Казимира Малевича\, Марка Шагала\, Елены Гуро\, Татьяны Мавриной\, Георгия Рублева и многих других авторов. А кроме этого\, у вас будет возможность найти среди этих 12 архетипов самого себя. \n2100 ₽ / 1 день
URL:https://friendsteam.ru/travel/arhetipy-avangarda-8/
CATEGORIES:Экскурсии
END:VEVENT
BEGIN:VEVENT
DTSTART;VALUE=DATE:20260426
DTEND;VALUE=DATE:20260427
DTSTAMP:20260421T031229
CREATED:20260407T101732Z
LAST-MODIFIED:20260407T101732Z
UID:60590-1777161600-1777247999@friendsteam.ru
SUMMARY:ПОДМОСКОВНЫЕ СКАЛЫ
DESCRIPTION:Поход к уникальному природному комплексу с карстовыми воронками\, пещерами\, старыми каменоломнями и водопадами. Тут обитает колония бурундуков\, которых мы увидим в сезон их активности. По пути посетим руины пансионата «Полушкино» и перейдем Москва реку по длинному подвесному мосту. (Московская область)  \n15 км / 2200 ₽ / 1 день
URL:https://friendsteam.ru/travel/podmoskovnye-skaly-25/
CATEGORIES:Подмосковье
END:VEVENT
BEGIN:VEVENT
DTSTART;VALUE=DATE:20260426
DTEND;VALUE=DATE:20260427
DTSTAMP:20260421T031229
CREATED:20260331T083736Z
LAST-MODIFIED:20260331T083736Z
UID:60371-1777161600-1777247999@friendsteam.ru
SUMMARY:КРАСНЫЙ КВАДРАТ МАЛЕВИЧА
DESCRIPTION:Стартуем утром из Москвы и двигаемся в Подмосковье! Дикий лес\, лесопарки и невероятные арт-объекты Парка Малевича в дневное время. Ждём вас на уютных тропах авангардного искусства! Мы пройдем через 4 лесопарка (лесопарк Кунцево\, Ромашковский лес\, Парк Малевича\, парк Раздолье)\, подробно изучим парк Малевича\, приобщимся к современному искусству и увидим 20! мощных арт-объектов. \n16 км / 2300 ₽ / 1 день
URL:https://friendsteam.ru/travel/krasnyj-kvadrat-malevicha-4/
CATEGORIES:Подмосковье
END:VEVENT
BEGIN:VEVENT
DTSTART;VALUE=DATE:20260426
DTEND;VALUE=DATE:20260427
DTSTAMP:20260421T031229
CREATED:20260309T150132Z
LAST-MODIFIED:20260309T150132Z
UID:60003-1777161600-1777247999@friendsteam.ru
SUMMARY:ИТАЛЬЯНСКИЙ ПАЛАЦЦО
DESCRIPTION:Предлагаем вам побывать в Италии и увидеть собственными глазами итальянский Ренессанс на московской экскурсии! Это роскошный особняк возле Патриарших прудов\, на Спиридоновке. Многие видели его снаружи\, но не знают\, что там внутри и как туда попасть. Этот дом построил архитектор Иван Жолтовский в стиле итальянского ренессанса конца 16 века\, для богатого купца Г. Тарасова. Сейчас в особняке находится Институт Африки\, с необычной атмосферой внутри\, доступ ограничен. \n2100 ₽ / 1 день
URL:https://friendsteam.ru/travel/italyanskij-palatstso-8/
CATEGORIES:Экскурсии
END:VEVENT
BEGIN:VEVENT
DTSTART;VALUE=DATE:20260426
DTEND;VALUE=DATE:20260427
DTSTAMP:20260421T031229
CREATED:20260309T150054Z
LAST-MODIFIED:20260309T150054Z
UID:60002-1777161600-1777247999@friendsteam.ru
SUMMARY:ДОНСКОЙ МОНАСТЫРЬ
DESCRIPTION:Приглашаем вас на экскурсию в таинственное место Москвы — Донской монастырь и его старинный дворянский некрополь. Мы увидим главные соборы Донского монастыря\, единственную в России действующую мироварню\, старинные захоронения и закрытые для посторонних усыпальницы знатных фамилий. Ангелы и девы\, стертые гербы и масонские знаки\, надгробия выдающихся скульпторов оставят надолго воспоминания о посещении этой таинственной обители. \n1400 ₽ / 1 день
URL:https://friendsteam.ru/travel/donskoj-monastyr-9/
CATEGORIES:Экскурсии
END:VEVENT
BEGIN:VEVENT
DTSTART;VALUE=DATE:20260425
DTEND;VALUE=DATE:20260426
DTSTAMP:20260421T031229
CREATED:20260310T085318Z
LAST-MODIFIED:20260310T085318Z
UID:60036-1777075200-1777161599@friendsteam.ru
SUMMARY:КУЗНЕЦКИЙ МОСТ
DESCRIPTION:Ни одна другая страна в мире не имела такого культурного влияния на Россию\, как Франция! Приглашаем вас на увлекательную экскурсию по самым французским местам в Москве. Мы увидим старинную архитектуру Кузнецкого моста и улицы Петровка\, послушаем романтические истории любви и подойдем к оригинальному фрагменту Эйфелевой башни в Москве. \n1400 ₽ / 1 день
URL:https://friendsteam.ru/travel/kuznetskij-most-5/
CATEGORIES:Экскурсии
END:VEVENT
BEGIN:VEVENT
DTSTART;VALUE=DATE:20260425
DTEND;VALUE=DATE:20260426
DTSTAMP:20260421T031229
CREATED:20260309T124208Z
LAST-MODIFIED:20260309T124208Z
UID:59998-1777075200-1777161599@friendsteam.ru
SUMMARY:МОСКВА ЖЕНСКАЯ
DESCRIPTION:Очень трогательная\, душевная\, красивая\, романтичная экскурсия — Москва Женская. Мы будем говорить о великих и прекрасных женщинах Москвы. Каждая из этих женщин легендарна\, со своей яркой судьбой\, своими тайнами и своим великолепием! \n1600 ₽ / 1 день
URL:https://friendsteam.ru/travel/moskva-zhenskaya-9/
CATEGORIES:Экскурсии
END:VEVENT
BEGIN:VEVENT
DTSTART;VALUE=DATE:20260425
DTEND;VALUE=DATE:20260426
DTSTAMP:20260421T031229
CREATED:20250503T182844Z
LAST-MODIFIED:20251217T123212Z
UID:49929-1777075200-1777161599@friendsteam.ru
SUMMARY:FRIENDS TEAM ULTRA 50
DESCRIPTION:В походе FRIENDS TEAM ULTRA 50 мы сделаем именно это – пройдем пешком 50 км за один день. Наш путь пройдет по диким и комфортным тропинкам и тропам\, дорогам и дорожкам. Маршрут несложный\, проходимая пересеченная местность и немного городской населёнки. Красивейший – именно этот эпитет наиболее подходит к нашему ультрамарафону! (Москва и Подмосковье) \n50 км / 4500 ₽ / 1 день
URL:https://friendsteam.ru/travel/friends-team-ultra-50-12/
CATEGORIES:Восхождения
END:VEVENT
BEGIN:VEVENT
DTSTART;VALUE=DATE:20260419
DTEND;VALUE=DATE:20260420
DTSTAMP:20260421T031229
CREATED:20260407T110548Z
LAST-MODIFIED:20260407T110548Z
UID:60597-1776556800-1776643199@friendsteam.ru
SUMMARY:ВВЕДЕНСКАЯ ПУСТЫНЬ
DESCRIPTION:Маршрут к Введенскому островному монастырю проходит по дремучим лесам и полям вдоль реки Киржач\, по берегам которой растут причудливые сосны и вековые дубы. Окружающая природа в соединении архитектурным ансамблем монастыря производит очень сильное впечатление. Нас также ждут сладкие сувениры — знаменитые покровские пряники. (Владимирская область)  \n19 км / 2200 ₽ / 1 день
URL:https://friendsteam.ru/travel/vvedenskaya-pustyn-18/
CATEGORIES:Подмосковье
END:VEVENT
BEGIN:VEVENT
DTSTART;VALUE=DATE:20260419
DTEND;VALUE=DATE:20260420
DTSTAMP:20260421T031229
CREATED:20260331T140836Z
LAST-MODIFIED:20260331T140836Z
UID:60386-1776556800-1776643199@friendsteam.ru
SUMMARY:АРХЕТИПЫ АВАНГАРДА
DESCRIPTION:Авангард и психоанализ! Приглашаем вас посмотреть на искусство русского авангарда через призму теории архетипов. При помощи которой мы раскроем характеры художников и логику их творчества. Мы рассмотрим произведения: Михаила Ларионова\, Василия Кандинского\, Казимира Малевича\, Марка Шагала\, Елены Гуро\, Татьяны Мавриной\, Георгия Рублева и многих других авторов. А кроме этого\, у вас будет возможность найти среди этих 12 архетипов самого себя. \n2100 ₽ / 1 день
URL:https://friendsteam.ru/travel/arhetipy-avangarda-6/
CATEGORIES:Экскурсии
END:VEVENT
BEGIN:VEVENT
DTSTART;VALUE=DATE:20260419
DTEND;VALUE=DATE:20260420
DTSTAMP:20260421T031229
CREATED:20260310T080201Z
LAST-MODIFIED:20260310T080201Z
UID:60029-1776556800-1776643199@friendsteam.ru
SUMMARY:МОСКВА 18+
DESCRIPTION:Эта прогулка-экскурсия пройдет по атмосферным переулкам и бульварам Москвы\, в которых происходили события с пикантными подробностями взрослой жизни 18+. Вы узнаете о продажной любви в царской России\, о любовных треугольниках Серебряного века\, о свободных нравах времен НЭПА\, о «в Советском Союзе секса нет»\, о роковой страсти\, мезальянсе и счастливых браках.  \n15 км / 2700 ₽ / 1 день
URL:https://friendsteam.ru/travel/moskva-18-19/
CATEGORIES:Москва
END:VEVENT
BEGIN:VEVENT
DTSTART;VALUE=DATE:20260419
DTEND;VALUE=DATE:20260420
DTSTAMP:20260421T031229
CREATED:20260301T052624Z
LAST-MODIFIED:20260301T052624Z
UID:59837-1776556800-1776643199@friendsteam.ru
SUMMARY:ФЁДОР КОНЮХОВ
DESCRIPTION:Приглашаем вас на экскурсию в  дом-музей и экспедиционный штаб Фёдора Конюхова! Это место\, наполненное артефактами\, сувенирами\, книгами и фотографиями со всего света. В списке достижений Фёдора Конюхова — покорение самых высоких горных вершин всех континентов\, пять кругосветных плаваний\, пересечение Атлантического и Тихого океанов на вёсельной лодке\, одиночное путешествие на Южный и Северный полюса\, одиночный кругосветный перелёт на воздушном шаре и множество мировых рекордов. \n1200 ₽ / 1 день
URL:https://friendsteam.ru/travel/fyodor-konyuhov-24/
CATEGORIES:Экскурсии
END:VEVENT
BEGIN:VEVENT
DTSTART;VALUE=DATE:20260418
DTEND;VALUE=DATE:20260419
DTSTAMP:20260421T031229
CREATED:20260324T030221Z
LAST-MODIFIED:20260324T030221Z
UID:60250-1776470400-1776556799@friendsteam.ru
SUMMARY:АРКТИКА — ПОЛЮС ЦВЕТА
DESCRIPTION:130 полотен более 30 художников\, побывавших на Севере. Среди них А. Борисов\, К. Коровин\, Ф. Решетников\, Ф. Конюхов\, художник-ненец Тыко Вылко и многие другие. На выставке мы узнаем о коренных народах севера\, вспомним об экспедиции Петра I\, о культуре поморов\, экспедициях Седова\, Русанова и Брусилова\, о спасении Умберто Нобеле и Челюскинцев\, о героизме многих русских исследователей Арктики. \n1900 ₽ / 1 день
URL:https://friendsteam.ru/travel/arktika-polyus-tsveta-6/
CATEGORIES:Экскурсии
END:VEVENT
BEGIN:VEVENT
DTSTART;VALUE=DATE:20260418
DTEND;VALUE=DATE:20260419
DTSTAMP:20260421T031229
CREATED:20260309T123854Z
LAST-MODIFIED:20260309T123854Z
UID:59989-1776470400-1776556799@friendsteam.ru
SUMMARY:ШВИВАЯ ГОРКА
DESCRIPTION:Таганский холм — один из семи легендарных московских холмов с богатейшей историей. В этих местах располагались ремесленные слободы — Гончарная\, Болвановская\, Котельническая\, Таганная… О них напоминают названия улиц и переулков. А в советское время здесь выросла одна из сталинских высоток — на Котельнической набережной которая стала домом для выдающихся людей того времени. \n1400 ₽ / 1 день
URL:https://friendsteam.ru/travel/shvivaya-gorka-2/
CATEGORIES:Экскурсии
END:VEVENT
BEGIN:VEVENT
DTSTART;VALUE=DATE:20260418
DTEND;VALUE=DATE:20260419
DTSTAMP:20260421T031229
CREATED:20260309T123620Z
LAST-MODIFIED:20260309T123620Z
UID:59987-1776470400-1776556799@friendsteam.ru
SUMMARY:АРКТИКА — ПОЛЮС ЦВЕТА
DESCRIPTION:130 полотен более 30 художников\, побывавших на Севере. Среди них А. Борисов\, К. Коровин\, Ф. Решетников\, Ф. Конюхов\, художник-ненец Тыко Вылко и многие другие. На выставке мы узнаем о коренных народах севера\, вспомним об экспедиции Петра I\, о культуре поморов\, экспедициях Седова\, Русанова и Брусилова\, о спасении Умберто Нобеле и Челюскинцев\, о героизме многих русских исследователей Арктики. \n1900 ₽ / 1 день
URL:https://friendsteam.ru/travel/arktika-polyus-tsveta-7/
CATEGORIES:Экскурсии
END:VEVENT
BEGIN:VEVENT
DTSTART;VALUE=DATE:20260418
DTEND;VALUE=DATE:20260419
DTSTAMP:20260421T031229
CREATED:20260118T194423Z
LAST-MODIFIED:20260311T113011Z
UID:59066-1776470400-1776556799@friendsteam.ru
SUMMARY:120 ВЁРСТ (1/4 Юго-Запад)
DESCRIPTION:Идём пешком по зелёным зонам нашей столицы в 32 км поход по Юго-западной четвертинке ультрапохода 120 ЗЕЛЁНЫХ ВЁРСТ МОСКВЫ. Мы пройдем через 16 скверов\, парков и лесопарков и побываем в удивительной\, зёлёной\, насыщенной достопримечательностями и незнакомой Москве! Нас ждет горячий этнический обед\, перекусы по дороге и чай с пирожками на финише\, а каждый финишёр получит в награду уникальную памятную медаль-пазл! \n32 км / 4200 ₽ / 1 день
URL:https://friendsteam.ru/travel/120-vyorst-1-4-yugo-zapad-6/
CATEGORIES:120 ВЁРСТ
END:VEVENT
BEGIN:VEVENT
DTSTART;VALUE=DATE:20260417
DTEND;VALUE=DATE:20260420
DTSTAMP:20260421T031229
CREATED:20250605T113318Z
LAST-MODIFIED:20260116T200545Z
UID:51993-1776384000-1776643199@friendsteam.ru
SUMMARY:БАСКУНЧАК
DESCRIPTION:Путешествие на озеро Баскунчак — одно из самых солёных озер мира в период цветения диких тюльпанов. Мы увидим тысячи цветущих диких тюльпанов\, побываем на горе Большое Богдо — единственной горе в Прикаспийской низменности\, спустимся и осмотрим основные галереи Баскунчакской пещеры\, крупнейшей пещеры Северного Прикаспия. (Астраханская область) \n35500 ₽ / 3 дня
URL:https://friendsteam.ru/travel/baskunchak-5/
CATEGORIES:Приключения
END:VEVENT
BEGIN:VEVENT
DTSTART;VALUE=DATE:20260412
DTEND;VALUE=DATE:20260413
DTSTAMP:20260421T031229
CREATED:20260313T155722Z
LAST-MODIFIED:20260313T155722Z
UID:60167-1775952000-1776038399@friendsteam.ru
SUMMARY:ДОМ ЗА МИЛЛИОН
DESCRIPTION:Приглашаем вас посетить дом одного из самых богатых купцов Москвы — особняк золотопромышленника Николая Стахеева и услышать множество историй и легенд о жившем на широкую ногу хозяине дома. Это настоящий дворец с удивительной сохранностью интерьеров\, которому могут позавидовать многие другие московские особняки. Все интерьеры\, мебель и предметы в этом особняке — подлинные и это просто невероятно! \n2500 ₽ / 1 день
URL:https://friendsteam.ru/travel/dom-za-million-3/
CATEGORIES:Экскурсии
END:VEVENT
BEGIN:VEVENT
DTSTART;VALUE=DATE:20260412
DTEND;VALUE=DATE:20260413
DTSTAMP:20260421T031229
CREATED:20260311T193434Z
LAST-MODIFIED:20260311T193434Z
UID:60120-1775952000-1776038399@friendsteam.ru
SUMMARY:МАТИСС\, ПИКАССО И РУССКИЙ АВАНГАРД
DESCRIPTION:На экскурсии посмотрим на 15 шедевров Матисса и Пикассо\, поговорим о том\, какую роль сыграли в судьбе обоих художников русские купцы Сергей Щукин и Иван Морозов и посмотрим\, как художники авангарда ( Лентулов\, Машков\, Гончарова\, Экстер\, Фальк и другие) вдохновлялись французскими мастерами и какой собственный язык им удалось выработать. \n1400 ₽ / 1 день
URL:https://friendsteam.ru/travel/matiss-pikasso-i-russkij-avangard-2/
CATEGORIES:Экскурсии
END:VEVENT
BEGIN:VEVENT
DTSTART;VALUE=DATE:20260411
DTEND;VALUE=DATE:20260419
DTSTAMP:20260421T031229
CREATED:20260114T090009Z
LAST-MODIFIED:20260419T145036Z
UID:58273-1775865600-1776556799@friendsteam.ru
SUMMARY:КАРИЙСКАЯ ТРОПА
DESCRIPTION:Карийская тропа — это не про комфорт. Это про настоящий рюкзак за плечами и ночёвки в палатке\, скалы и заросли\, море и прибой\, романтику и звёзды на небе\, это про живые чувства\, про то\, как устаёт тело\, а душа наполняется эмоциями. Про то\, как вдруг вы понимаете: вот оно\, настоящее путешествие\, сделанное из солнца над головой\, ветра в волосах\, солёных брызг моря на коже и верных друзьях рядом с вами. Это тропа\, которая оставит след не на карте вашего трекера\, а в вашем сердце! \n85 км / 650 € / 9 дней
URL:https://friendsteam.ru/travel/karijskaya-tropa/
CATEGORIES:Трекинги
END:VEVENT
BEGIN:VEVENT
DTSTART;VALUE=DATE:20260411
DTEND;VALUE=DATE:20260412
DTSTAMP:20260421T031230
CREATED:20260304T172553Z
LAST-MODIFIED:20260309T123242Z
UID:59906-1775865600-1775951999@friendsteam.ru
SUMMARY:НЕОБЫЧНАЯ МОСКВА
DESCRIPTION:Вы увидите около двадцати самых оригинальных и необычных домов Москвы. Москва – город контрастов. Мы покажем вам самые причудливые и незаурядные образцы архитектуры разных эпох\, а профессиональный московский гид-экскурсовод расскажет об интересных судьбах тех\, кто заказывал эти произведения искусства и судьбах тех\, кто их проектировал и строил.  \n16 км / 2700 ₽ / 1 день
URL:https://friendsteam.ru/travel/neobychnaya-moskva-11/
CATEGORIES:Москва
END:VEVENT
BEGIN:VEVENT
DTSTART;VALUE=DATE:20260404
DTEND;VALUE=DATE:20260405
DTSTAMP:20260421T031230
CREATED:20260301T052555Z
LAST-MODIFIED:20260301T052555Z
UID:59836-1775260800-1775347199@friendsteam.ru
SUMMARY:ФЁДОР КОНЮХОВ
DESCRIPTION:Приглашаем вас на экскурсию в  дом-музей и экспедиционный штаб Фёдора Конюхова! Это место\, наполненное артефактами\, сувенирами\, книгами и фотографиями со всего света. В списке достижений Фёдора Конюхова — покорение самых высоких горных вершин всех континентов\, пять кругосветных плаваний\, пересечение Атлантического и Тихого океанов на вёсельной лодке\, одиночное путешествие на Южный и Северный полюса\, одиночный кругосветный перелёт на воздушном шаре и множество мировых рекордов. \n1200 ₽ / 1 день
URL:https://friendsteam.ru/travel/fyodor-konyuhov-23/
CATEGORIES:Экскурсии
END:VEVENT
BEGIN:VEVENT
DTSTART;VALUE=DATE:20260404
DTEND;VALUE=DATE:20260405
DTSTAMP:20260421T031230
CREATED:20260215T145649Z
LAST-MODIFIED:20260215T145649Z
UID:59735-1775260800-1775347199@friendsteam.ru
SUMMARY:ОСОБНЯК РЯБУШИНСКОГО
DESCRIPTION:Экскурсия в самый желанный и сказочный дом эпохи модерна\, построенный гением-архитектором Федором Шехтелем — особняк Рябушинского. Жемчужина модерна\, шедевр архитектуры\, на который приезжают смотреть иностранцы со всего мира и который входит в любой учебник по истории мировой архитектуры. По пути к особняку Рябушинского увидим и расскажем про ещё два здания\, построенных Шехтелем — театр Парадис и электротеатр Художественный. \n2500 ₽ / 1 день
URL:https://friendsteam.ru/travel/osobnyak-ryabushinskogo-13/
CATEGORIES:Экскурсии
END:VEVENT
BEGIN:VEVENT
DTSTART;VALUE=DATE:20260329
DTEND;VALUE=DATE:20260330
DTSTAMP:20260421T031230
CREATED:20260303T162818Z
LAST-MODIFIED:20260303T162818Z
UID:59868-1774742400-1774828799@friendsteam.ru
SUMMARY:АРХЕТИПЫ АВАНГАРДА
DESCRIPTION:Авангард и психоанализ! Приглашаем вас посмотреть на искусство русского авангарда через призму теории архетипов. При помощи которой мы раскроем характеры художников и логику их творчества. Мы рассмотрим произведения: Михаила Ларионова\, Василия Кандинского\, Казимира Малевича\, Марка Шагала\, Елены Гуро\, Татьяны Мавриной\, Георгия Рублева и многих других авторов. А кроме этого\, у вас будет возможность найти среди этих 12 архетипов самого себя. \n2100 ₽ / 1 день
URL:https://friendsteam.ru/travel/arhetipy-avangarda-5/
CATEGORIES:Экскурсии
END:VEVENT
BEGIN:VEVENT
DTSTART;VALUE=DATE:20260329
DTEND;VALUE=DATE:20260330
DTSTAMP:20260421T031230
CREATED:20260225T122413Z
LAST-MODIFIED:20260309T122954Z
UID:59776-1774742400-1774828799@friendsteam.ru
SUMMARY:ПУТЬ ИМПРЕССИОНИЗМА
DESCRIPTION:Приглашаем вас окунуться в удивительную атмосферу импрессионизма\, посетив уникальную экспозицию Галереи искусства Европы и Америки Пушкинского музея. История этой коллекции началась на рубеже XIX и ХХ столетий\, когда коллекционеры Сергей Щукин и Иван Морозов познакомившись с новым искусством Франции\, начали покупать лучшие картины и перевозить их в Москву. Их приобретения\, дополняя друг друга\, соединились в невероятное собрание\, которое можно назвать энциклопедией импрессионизма. \n2300 ₽ / 1 день
URL:https://friendsteam.ru/travel/put-impressionizma-12/
CATEGORIES:Экскурсии
END:VEVENT
BEGIN:VEVENT
DTSTART;VALUE=DATE:20260329
DTEND;VALUE=DATE:20260330
DTSTAMP:20260421T031230
CREATED:20260129T181729Z
LAST-MODIFIED:20260129T181729Z
UID:59423-1774742400-1774828799@friendsteam.ru
SUMMARY:МОЛОЧНЫЙ ПОХОД
DESCRIPTION:Несмотря на близость населённых пунктов — это очень лесной маршрут. Нас ждут невероятные лесные пейзажи: березы\, ели\, сосны\, речки\, пруды и чистейший лесной воздух унесут нас из душного мира мегаполиса в мир необыкновенной красоты и гармонии. В гуще леса мы с вами приготовим вкусный горячий обед и отыщем волшебное Дерево желаний\, загадаем их и наши желания наверняка исполнятся. А ещё у нас будет потрясающая экскурсия в Музей истории молока и глазированного сырка. \n14 км / 2200 ₽ / 1 день
URL:https://friendsteam.ru/travel/molochnyj-pohod-15/
CATEGORIES:Подмосковье
END:VEVENT
BEGIN:VEVENT
DTSTART;VALUE=DATE:20260328
DTEND;VALUE=DATE:20260406
DTSTAMP:20260421T031230
CREATED:20250507T085714Z
LAST-MODIFIED:20260116T195551Z
UID:50080-1774656000-1775433599@friendsteam.ru
SUMMARY:КИТАЙ — ГОРЫ АВАТАРА
DESCRIPTION:Мы едем в Китай! На ту самую планету Пандору\, в национальный парк с парящими горами\, который в фильме Аватар. Мы сплавимся по таинственной реке Ли. Пройдем по самому длинному и высокому в мире стеклянному мосту и прокатимся на современном высокоскоростном поезде! Мы посетим современный мегаполис Гуанчжоу и почувствуем\, как живет Китай сегодня. \n2170 $ / 9 дней
URL:https://friendsteam.ru/travel/kitaj-gory-avatara-2/
CATEGORIES:Приключения
END:VEVENT
BEGIN:VEVENT
DTSTART;VALUE=DATE:20260328
DTEND;VALUE=DATE:20260329
DTSTAMP:20260421T031230
CREATED:20260311T193404Z
LAST-MODIFIED:20260311T193404Z
UID:60119-1774656000-1774742399@friendsteam.ru
SUMMARY:МАТИСС\, ПИКАССО И РУССКИЙ АВАНГАРД
DESCRIPTION:На экскурсии посмотрим на 15 шедевров Матисса и Пикассо\, поговорим о том\, какую роль сыграли в судьбе обоих художников русские купцы Сергей Щукин и Иван Морозов и посмотрим\, как художники авангарда ( Лентулов\, Машков\, Гончарова\, Экстер\, Фальк и другие) вдохновлялись французскими мастерами и какой собственный язык им удалось выработать. \n1400 ₽ / 1 день
URL:https://friendsteam.ru/travel/matiss-pikasso-i-russkij-avangard/
CATEGORIES:Экскурсии
END:VEVENT
BEGIN:VEVENT
DTSTART;VALUE=DATE:20260327
DTEND;VALUE=DATE:20260328
DTSTAMP:20260421T031230
CREATED:20260312T094052Z
LAST-MODIFIED:20260312T094052Z
UID:60142-1774569600-1774655999@friendsteam.ru
SUMMARY:ГОСТИНИЦА ЛЕНИНГРАДСКАЯ
DESCRIPTION:Гостиница «Ленинградская — одна из семи сталинских высоток. Самая маленькая\, но самая нарядная\, внутри напоминающая сказочные чертоги с богатым убранством. Внутри мы будем рассматривать оригинальные росписи интерьеров гениальных мастеров советской эпохи\, посмотрим на уникальные люстры\, решётки\, легендарную дверь-вертушку\, шикарные вазы и красивые панно. А в конце экскурсии нас ждёт атмосферное чаепитие в одном из роскошных залов. \n2600 ₽ / 1 день
URL:https://friendsteam.ru/travel/gostinitsa-leningradskaya-16/
CATEGORIES:Экскурсии
END:VEVENT
BEGIN:VEVENT
DTSTART;VALUE=DATE:20260314
DTEND;VALUE=DATE:20260326
DTSTAMP:20260421T031230
CREATED:20250317T211955Z
LAST-MODIFIED:20260116T070048Z
UID:47537-1773446400-1774483199@friendsteam.ru
SUMMARY:БОЛЬШОЕ ПУТЕШЕСТВИЕ ПО МАРОККО
DESCRIPTION:Большое путешествие мечты в Марокко\, загадочную и удивительную страну. Посетим города: Маракеш\,\, Имлиль\, Айт-Бен-Хадду\, Фес\, Касабланка\, Шефшауэн и Эс-Сувейра с узкими улочками и людными шумными мединами. Увидим Атлантический океан\, переночуем в пустыне Сахара\, покатаемся на верблюдах\, встретим космические рассветы и закаты и совершим несложное  восхождение на гору Тубкаль (4167 м)\, высочайшую гору Северной Африки. \n1900 € / 12 дней
URL:https://friendsteam.ru/travel/puteshestvie-po-marokko/
CATEGORIES:Восхождения
END:VEVENT
END:VCALENDAR