BEGIN:VCALENDAR
VERSION:2.0
PRODID:-//ДРУЗЬЯ - ECPv6.10.3//NONSGML v1.0//EN
CALSCALE:GREGORIAN
METHOD:PUBLISH
X-WR-CALNAME:ДРУЗЬЯ
X-ORIGINAL-URL:https://friendsteam.ru
X-WR-CALDESC:Мероприятия для ДРУЗЬЯ
REFRESH-INTERVAL;VALUE=DURATION:PT1H
X-Robots-Tag:noindex
X-PUBLISHED-TTL:PT1H
BEGIN:VTIMEZONE
TZID:Europe/Moscow
BEGIN:STANDARD
TZOFFSETFROM:+0300
TZOFFSETTO:+0300
TZNAME:MSK
DTSTART:20260101T000000
END:STANDARD
END:VTIMEZONE
BEGIN:VEVENT
DTSTART;VALUE=DATE:20260612
DTEND;VALUE=DATE:20260613
DTSTAMP:20260421T072617
CREATED:20260419T072331Z
LAST-MODIFIED:20260419T072331Z
UID:60807-1781222400-1781308799@friendsteam.ru
SUMMARY:МОСКВА НОВОДЕВИЧЬЯ
DESCRIPTION:Приглашаем вас отправиться в одно из самых знаковых мест Москвы – Новодевичий некрополь\, место вечного упокоения выдающихся людей России\, в котором хочется говорить про жизнь и вспоминать яркие судьбы людей\, которыми мы все гордимся\, и Новодевичий монастырь – «обитель пресветлую\, обитель девичью». Какие же тайны он хранит?  \n1600 ₽ / 1 день
URL:https://friendsteam.ru/travel/moskva-novodevichya-19/
CATEGORIES:Экскурсии
END:VEVENT
BEGIN:VEVENT
DTSTART;VALUE=DATE:20260612
DTEND;VALUE=DATE:20260613
DTSTAMP:20260421T072617
CREATED:20260419T072520Z
LAST-MODIFIED:20260419T072520Z
UID:60808-1781222400-1781308799@friendsteam.ru
SUMMARY:МОСКОВСКАЯ БОГЕМА
DESCRIPTION:Приглашаем вас окунуться в самые богемные и атмосферные места Москвы. Аристократическая Поварская\, уютная Спиридоновка\, Малая и Большая Бронные и атмосферные переулки между ними\, ну и\, конечно\, богемные Патриаршие пруды всегда привлекали представителей творческой интеллигенции. Мы увидим дома\, где жили или проживают великие писатели\, актеры\, архитекторы\, музыканты\, мы узнаем\, как и чем они жили и где творили. \n1400 ₽ / 1 день
URL:https://friendsteam.ru/travel/moskovskaya-bogema-5/
CATEGORIES:Экскурсии
END:VEVENT
BEGIN:VEVENT
DTSTART;VALUE=DATE:20260613
DTEND;VALUE=DATE:20260614
DTSTAMP:20260421T072617
CREATED:20260419T072850Z
LAST-MODIFIED:20260419T072850Z
UID:60809-1781308800-1781395199@friendsteam.ru
SUMMARY:СУДЬБЫ ВАГАНЬКОВО
DESCRIPTION:Приглашаем вас погрузиться в мир старинного Ваганьковского некрополя. Нас ждут истории о судьбах выдающихся людей\, нашедших тут последнее пристанище — С. Есенин\, В. Высоцкий\, В. Листьев\, О. Даль\, И. Тальков\, В. Суриков\, Б. Окуджава\, Г. Вицин\, Л. Филатов\, А. Абдулов\, М. Пуговкин\, Л. Яшин\, Н. Старостин и многих других. Здесь память\, застывшая в камне\, еще раз напомнит нам о счастье жизни. \n1400 ₽ / 1 день
URL:https://friendsteam.ru/travel/sudby-vagankovo-9/
CATEGORIES:Экскурсии
END:VEVENT
BEGIN:VEVENT
DTSTART;VALUE=DATE:20260613
DTEND;VALUE=DATE:20260614
DTSTAMP:20260421T072617
CREATED:20260419T073126Z
LAST-MODIFIED:20260419T075724Z
UID:60810-1781308800-1781395199@friendsteam.ru
SUMMARY:ПРЕСНЯ КРАСНАЯ
DESCRIPTION:Пресня Красная – это один из самых красивых и многоликих исторических районов Москвы. Мы посетим самый большой католический костел России\, а среди жилых домов найдем старые терема с изразцами и деревянные домики с резными окошками. Мы также увидим некогда богатейшие фабрики нашей страны и отыщем шикарные готические фасады на них. Мы также пройдемся по Грузинской слободе\, выйдем к башням Москва-Сити и будем удивляться необычным московским ракурсам. \n10 км / 2500 ₽ / 1 день
URL:https://friendsteam.ru/travel/presnya-krasnaya-11/
CATEGORIES:Москва
END:VEVENT
BEGIN:VEVENT
DTSTART;VALUE=DATE:20260614
DTEND;VALUE=DATE:20260615
DTSTAMP:20260421T072617
CREATED:20260419T073212Z
LAST-MODIFIED:20260419T073212Z
UID:60811-1781395200-1781481599@friendsteam.ru
SUMMARY:ШАГАЕМ ПО МОСКВЕ
DESCRIPTION:Маршрут охватывает практически весь исторический центр Москвы. Это — Москва Трех Эпох. Мы познакомимся с Москвой царской\, советской и\, конечно\, же современной. Профессиональный московский гид-экскурсовод расскажет вам мнорго интересных историй о городе. Москва предстанет перед нами как любимая книга\, которую захочется перечитывать снова и снова.   \n15 км / 2200 ₽ / 1 день
URL:https://friendsteam.ru/travel/shagaem-po-moskve-16/
CATEGORIES:Москва
END:VEVENT
BEGIN:VEVENT
DTSTART;VALUE=DATE:20260620
DTEND;VALUE=DATE:20260621
DTSTAMP:20260421T072617
CREATED:20260407T112336Z
LAST-MODIFIED:20260407T112336Z
UID:60599-1781913600-1781999999@friendsteam.ru
SUMMARY:120 ВЁРСТ (1/4 Северо-Восток)
DESCRIPTION:Идём пешком по зелёным зонам нашей столицы в 32 км поход по Северо-восточной четвертинке ультрапохода 120 ЗЕЛЁНЫХ ВЁРСТ МОСКВЫ. Мы пройдем через 15 скверов\, парков и лесопарков и побываем в удивительной\, зёлёной\, насыщенной достопримечательностями и незнакомой Москве! Нас ждет горячий этнический обед\, перекусы по дороге и чай с пирожками на финише\, а каждый финишёр получит в награду уникальную памятную медаль-пазл! \n32 км / 4500 ₽ / 1 день
URL:https://friendsteam.ru/travel/120-vyorst-1-4-severo-vostok-2/
CATEGORIES:120 ВЁРСТ
END:VEVENT
BEGIN:VEVENT
DTSTART;VALUE=DATE:20260711
DTEND;VALUE=DATE:20260712
DTSTAMP:20260421T072617
CREATED:20260407T112511Z
LAST-MODIFIED:20260407T112609Z
UID:60600-1783728000-1783814399@friendsteam.ru
SUMMARY:120 ВЁРСТ (1/4 Северо-Запад)
DESCRIPTION:Идём пешком по зелёным зонам нашей столицы в 32 км поход по Северо-западной четвертинке ультрапохода 120 ЗЕЛЁНЫХ ВЁРСТ МОСКВЫ. Мы пройдем через 18 скверов\, парков и лесопарков и побываем в удивительной\, зёлёной\, насыщенной достопримечательностями и незнакомой Москве! Нас ждет горячий этнический обед\, перекусы по дороге и чай с пирожками на финише\, а каждый финишёр получит в награду уникальную памятную медаль-пазл! \n32 км / 4500 ₽ / 1 день
URL:https://friendsteam.ru/travel/120-vyorst-1-4-severo-zapad-6/
CATEGORIES:120 ВЁРСТ
END:VEVENT
BEGIN:VEVENT
DTSTART;VALUE=DATE:20260725
DTEND;VALUE=DATE:20260726
DTSTAMP:20260421T072617
CREATED:20260328T111628Z
LAST-MODIFIED:20260328T111628Z
UID:60312-1784937600-1785023999@friendsteam.ru
SUMMARY:FRIENDS TEAM ULTRA 50
DESCRIPTION:В походе FRIENDS TEAM ULTRA 50 мы сделаем именно это – пройдем пешком 50 км за один день. Наш путь пройдет по диким и комфортным тропинкам и тропам\, дорогам и дорожкам. Маршрут несложный\, проходимая пересеченная местность и немного городской населёнки. Красивейший – именно этот эпитет наиболее подходит к нашему ультрамарафону! (Москва и Подмосковье) \n50 км / 4500 ₽ / 1 день
URL:https://friendsteam.ru/travel/friends-team-ultra-50-13/
CATEGORIES:Восхождения
END:VEVENT
BEGIN:VEVENT
DTSTART;VALUE=DATE:20260815
DTEND;VALUE=DATE:20260823
DTSTAMP:20260421T072617
CREATED:20250819T035931Z
LAST-MODIFIED:20260116T194244Z
UID:54899-1786752000-1787443199@friendsteam.ru
SUMMARY:АРАРАТ 8 / ТУРЦИЯ
DESCRIPTION:Восхождение на вершину культовой горы\, легендарный пятитысячник\, Арарат (5165м) из Турции за 8 дней. Восхождение на гору Арарат не представляет технической сложности и подходит новичкам. Это лучший вариант первого пятитысячника. Вам потребуется минимум   снаряжения\, а необходимые альпинистские знания и навыки вы приобретете на месте. \n1160 $ / 8 дней
URL:https://friendsteam.ru/travel/ararat-8-turtsiya-3/
CATEGORIES:Восхождения
END:VEVENT
BEGIN:VEVENT
DTSTART;VALUE=DATE:20260911
DTEND;VALUE=DATE:20260921
DTSTAMP:20260421T072617
CREATED:20251121T174513Z
LAST-MODIFIED:20260116T200220Z
UID:57194-1789084800-1789948799@friendsteam.ru
SUMMARY:ПУТЕШЕСТВИЕ ПО УЗБЕКИСТАНУ
DESCRIPTION:В этом захватывающем путешествии собраны воедино красота природы\, колорит и самобытность современного и древнего Востока\, невероятно вкусная восточная кухня и фруктовые\, кулинарные и гастрономические изыски. Города: Хивы\, Бухара\, Самарканд\, Нукус\, Муйнак\, Ташкент. Чимганские горы\, пустыни Каракум и Кызылкум\, каньоны Устюрта и Аральское море. \n1690 $ / 10 дней
URL:https://friendsteam.ru/travel/puteshestvie-po-uzbekistanu-2/
CATEGORIES:Приключения
END:VEVENT
BEGIN:VEVENT
DTSTART;VALUE=DATE:20260927
DTEND;VALUE=DATE:20261003
DTSTAMP:20260421T072617
CREATED:20260122T213054Z
LAST-MODIFIED:20260122T213054Z
UID:59212-1790467200-1790985599@friendsteam.ru
SUMMARY:ФИШТ\, ОШТЕН\, ПШЕХА-СУ
DESCRIPTION:Восхождения в Кавказском биосферном заповеднике сразу на три вершины: Фишт (2868м)\, Оштен (2804м) и Пшеха-Су (2743м). Программа подходит для новичков — это отличная возможность почувствовать высоту\, познакомиться с альпинизмом\, а также лучшая подготовка к более сложным горам. Возможна заброска больших рюкзаков до Приюта Фишт на лошадях. (Адыгея) \n39500 ₽ / 6 дней
URL:https://friendsteam.ru/travel/fisht-oshten-psheha-su-6/
CATEGORIES:Восхождения
END:VEVENT
BEGIN:VEVENT
DTSTART;VALUE=DATE:20261010
DTEND;VALUE=DATE:20261011
DTSTAMP:20260421T072617
CREATED:20260303T155257Z
LAST-MODIFIED:20260303T155257Z
UID:59866-1791590400-1791676799@friendsteam.ru
SUMMARY:FRIENDS TEAM ULTRA 50
DESCRIPTION:В походе FRIENDS TEAM ULTRA 50 мы сделаем именно это – пройдем пешком 50 км за один день. Наш путь пройдет по диким и комфортным тропинкам и тропам\, дорогам и дорожкам. Маршрут несложный\, проходимая пересеченная местность и немного городской населёнки. Красивейший – именно этот эпитет наиболее подходит к нашему ультрамарафону! (Москва и Подмосковье) \n50 км / 4500 ₽ / 1 день
URL:https://friendsteam.ru/travel/friends-team-ultra-50-16/
CATEGORIES:Восхождения
END:VEVENT
BEGIN:VEVENT
DTSTART;VALUE=DATE:20261024
DTEND;VALUE=DATE:20261101
DTSTAMP:20260421T072617
CREATED:20251104T172457Z
LAST-MODIFIED:20260116T194602Z
UID:56810-1792800000-1793491199@friendsteam.ru
SUMMARY:ЗАПАДНАЯ ЛИКИЙКА
DESCRIPTION:Это один из самых красивых маршрутов Европы. Мы познакомимся с настоящей Турцией. Нас ожидают могучие горные вершины\, лазурное море\, шикарные песчаные пляжи и живописные бухты. Мы увидим бухту Алидениз\, гору Баба даг\, Долину Бабочек\, античный город Патара и другие памятники Ликийской цивилизации. Маршрут технически несложен\, без больших рюкзаков и с комфортными ночевками. \n85 км / 1050 € / 8 дней
URL:https://friendsteam.ru/travel/zapadnaya-likijka-3/
CATEGORIES:Трекинги
END:VEVENT
BEGIN:VEVENT
DTSTART;VALUE=DATE:20261024
DTEND;VALUE=DATE:20261106
DTSTAMP:20260421T072617
CREATED:20260121T152603Z
LAST-MODIFIED:20260226T185656Z
UID:59193-1792800000-1793923199@friendsteam.ru
SUMMARY:К АННАПУРНЕ
DESCRIPTION:Треккинг к базовому лагерю Аннапурны — один из самых известных в мире маршрутов. Поход проходит на комфортных высотах — мы пойдем горными тропами по глубоким ущельям\, покрытым могучими хвойными лесами\, бамбуковыми зарослями и лесами гималайских рододендронов. Нам откроются невероятные виды самых высоких гор планеты. Треккинг начнется  культурной программой в Катманду и закончится в Покхаре.  \n1250 $ / 13 дней
URL:https://friendsteam.ru/travel/k-annapurne-4/
CATEGORIES:Трекинги
END:VEVENT
BEGIN:VEVENT
DTSTART;VALUE=DATE:20261024
DTEND;VALUE=DATE:20261107
DTSTAMP:20260421T072617
CREATED:20250927T114320Z
LAST-MODIFIED:20260116T194421Z
UID:55741-1792800000-1794009599@friendsteam.ru
SUMMARY:ВОКРУГ МАНАСЛУ
DESCRIPTION:Пеший маршрут\, пока находящийся в стороне от массовых турпотоков\, через перевал Ларке Ла (5160 м). Треккинг проходит на северо–западе центральной части Непала\, от вечнозеленых джунглей до заснеженных перевалов и ледников\, с которых открываются захватывающие виды на высочайшие гималайские вершины и восьмую по величине гору в мире\, Манаслу (8163 м). \n1450 $ / 14 дней
URL:https://friendsteam.ru/travel/vokrug-manaslu-4/
CATEGORIES:Трекинги
END:VEVENT
BEGIN:VEVENT
DTSTART;VALUE=DATE:20261106
DTEND;VALUE=DATE:20261115
DTSTAMP:20260421T072617
CREATED:20260401T095000Z
LAST-MODIFIED:20260401T095000Z
UID:60423-1793923200-1794700799@friendsteam.ru
SUMMARY:КИТАЙ — ГОРЫ АВАТАРА
DESCRIPTION:Мы едем в Китай! На ту самую планету Пандору\, в национальный парк с парящими горами\, который в фильме Аватар. Мы сплавимся по таинственной реке Ли. Пройдем по самому длинному и высокому в мире стеклянному мосту и прокатимся на современном высокоскоростном поезде! Мы посетим современный мегаполис Гуанчжоу и почувствуем\, как живет Китай сегодня. \n2170 $ / 9 дней
URL:https://friendsteam.ru/travel/kitaj-gory-avatara-4/
CATEGORIES:Приключения
END:VEVENT
BEGIN:VEVENT
DTSTART;VALUE=DATE:20261114
DTEND;VALUE=DATE:20261122
DTSTAMP:20260421T072617
CREATED:20260328T163151Z
LAST-MODIFIED:20260328T163151Z
UID:60322-1794614400-1795305599@friendsteam.ru
SUMMARY:ПЕРВЫЙ РАЗ В КИТАЙ
DESCRIPTION:Приглашаем вас в ваше первое путешествие по Китаю! Великая Китайская стена\, запретный город Гугун\, терракотовая армия Сианя\, старинные пагоды\, ультрасовременные небоскребы и высокоскоростные поезда — приготовьтесь к незабываемой поездке по Китаю. Уникальная история\, оригинальная кухня — всё это ждёт вас в нашем туре по трём самым знаковым городам — Пекину\, Шанхаю и Сианю. \n2000 $ / 8 дней
URL:https://friendsteam.ru/travel/pervyj-raz-v-kitaj/
CATEGORIES:Приключения
END:VEVENT
BEGIN:VEVENT
DTSTART;VALUE=DATE:20261121
DTEND;VALUE=DATE:20261201
DTSTAMP:20260421T072617
CREATED:20250926T205340Z
LAST-MODIFIED:20260116T195914Z
UID:55710-1795219200-1796083199@friendsteam.ru
SUMMARY:ВЛЮБИТЬСЯ В ЯПОНИЮ
DESCRIPTION:Полное погружение в историю и культуры Японии с местными русскоговорящими гидами\, прожившими в Японии большую часть своей жизни. Вы побываете в топовых и сокровенных локациях и в полной мере сможете ощутить эстетику Японии\, прочувствовать её жизнь\, сервис\, природную красоту и обогатиться знаниями о Стране Восходящего Солнца. \n3350 $ / 10 дней
URL:https://friendsteam.ru/travel/vlyubitsya-v-yaponiyu-2/
CATEGORIES:Приключения
END:VEVENT
BEGIN:VEVENT
DTSTART;VALUE=DATE:20261212
DTEND;VALUE=DATE:20261213
DTSTAMP:20260421T072617
CREATED:20251217T123105Z
LAST-MODIFIED:20251217T123211Z
UID:57635-1797033600-1797119999@friendsteam.ru
SUMMARY:FRIENDS TEAM ULTRA 50
DESCRIPTION:В походе FRIENDS TEAM ULTRA 50 мы сделаем именно это – пройдем пешком 50 км за один день. Наш путь пройдет по диким и комфортным тропинкам и тропам\, дорогам и дорожкам. Маршрут несложный\, проходимая пересеченная местность и немного городской населёнки. Красивейший – именно этот эпитет наиболее подходит к нашему ультрамарафону! (Москва и Подмосковье) \n50 км / 4500 ₽ / 1 день
URL:https://friendsteam.ru/travel/friends-team-ultra-50-15/
CATEGORIES:Восхождения
END:VEVENT
BEGIN:VEVENT
DTSTART;VALUE=DATE:20270102
DTEND;VALUE=DATE:20270111
DTSTAMP:20260421T072617
CREATED:20260325T110906Z
LAST-MODIFIED:20260328T173249Z
UID:60275-1798848000-1799625599@friendsteam.ru
SUMMARY:НОВОГОДНЕЕ ПУТЕШЕСТВИЕ ПО МАРОККО
DESCRIPTION:Новогодние каникулы мечты в Марокко\, загадочной и удивительной стране\, расположенной на стыке восточной и европейской культур. В месте\, где великий океан встречается с великой пустыней. Посетим города: Марракеш\, Уарзазат\, Айт-Бен-Хадду\, Мерзуга\, Имлиль\, Эс-Сувейра\, Фес\, Касабланка\, Рабат и Шефшауэн (Синий город!). Переночуем в пустыне Сахара\, покатаемся на верблюдах. Побываем на Атлантическом океане и обязательно искупаемся в нем. Встретим космические рассветы и закаты. \n1950 € / 9 дней
URL:https://friendsteam.ru/travel/novogodnee-puteshestvie-po-marokko/
CATEGORIES:Трекинги
END:VEVENT
BEGIN:VEVENT
DTSTART;VALUE=DATE:20270129
DTEND;VALUE=DATE:20270130
DTSTAMP:20260421T072617
CREATED:20260129T192915Z
LAST-MODIFIED:20260129T192915Z
UID:59438-1801180800-1801267199@friendsteam.ru
SUMMARY:ПОДМОСКОВНЫЕ КИЖИ
DESCRIPTION:Поход в урочище Введенское-Борисовка. Несмотря на близость к мегаполису этот маршрут проходит через нетронутый цивилизацией природный лесной массив с сохранившимися участками реликтовой Южной тайги к уникальному деревянному храмовому комплексу с архитектурными произведениями полузабытого искусства древнерусского деревянного зодчества. (Московская область)  \n18 км / 2200 ₽ / 1 день
URL:https://friendsteam.ru/travel/podmoskovnye-kizhi-9/
CATEGORIES:Подмосковье
END:VEVENT
BEGIN:VEVENT
DTSTART;VALUE=DATE:20270129
DTEND;VALUE=DATE:20270130
DTSTAMP:20260421T072617
CREATED:20260129T192943Z
LAST-MODIFIED:20260129T192943Z
UID:59439-1801180800-1801267199@friendsteam.ru
SUMMARY:ПОДМОСКОВНЫЕ КИЖИ
DESCRIPTION:Поход в урочище Введенское-Борисовка. Несмотря на близость к мегаполису этот маршрут проходит через нетронутый цивилизацией природный лесной массив с сохранившимися участками реликтовой Южной тайги к уникальному деревянному храмовому комплексу с архитектурными произведениями полузабытого искусства древнерусского деревянного зодчества. (Московская область)  \n18 км / 2200 ₽ / 1 день
URL:https://friendsteam.ru/travel/podmoskovnye-kizhi-10/
CATEGORIES:Подмосковье
END:VEVENT
BEGIN:VEVENT
DTSTART;VALUE=DATE:20270201
DTEND;VALUE=DATE:20270210
DTSTAMP:20260421T072617
CREATED:20260306T075443Z
LAST-MODIFIED:20260306T075443Z
UID:59924-1801440000-1802217599@friendsteam.ru
SUMMARY:КАМБОДЖА — КОРОЛЕВСТВО ЧУДЕС
DESCRIPTION:Камбоджа — необыкновенно красивая\, интересная и загадочная страна\, ведь древнейшие памятники кхмерской цивилизации расположены среди девственной природы тропических джунглей. Вы побываете и в самых известных локациях Королевства Чудес\, и сможете увидеть множество других загадочных мест цивилизации кхмеров\, куда не возят туристов в пакетных турах. \n1950 $ / 9 дней
URL:https://friendsteam.ru/travel/kambodzha-korolevstvo-chudes-4/
CATEGORIES:Приключения
END:VEVENT
BEGIN:VEVENT
DTSTART;VALUE=DATE:20270306
DTEND;VALUE=DATE:20270315
DTSTAMP:20260421T072617
CREATED:20260325T062942Z
LAST-MODIFIED:20260325T062942Z
UID:60267-1804291200-1805068799@friendsteam.ru
SUMMARY:ПУТЕШЕСТВИЕ ПО МАРОККО
DESCRIPTION:Путешествие мечты в Марокко\, загадочную и удивительную страну\, расположенную на стыке восточной и европейской культур. В месте\, где великий океан встречается с великой пустыней. Посетим города: Марракеш\, Уарзазат\, Айт-Бен-Хадду\, Мерзуга\, Имлиль\, Эс-Сувейра\, Фес\, Касабланка\, Рабат и Шефшауэн (Синий город!). Переночуем в пустыне Сахара и покатаемся на верблюдах. Побываем на Атлантическом океане и обязательно искупаемся в нем. Встретим космические рассветы и закаты. \n1600 € / 9 дней
URL:https://friendsteam.ru/travel/puteshestvie-po-marokko-3/
CATEGORIES:Трекинги
END:VEVENT
BEGIN:VEVENT
DTSTART;VALUE=DATE:20270306
DTEND;VALUE=DATE:20270318
DTSTAMP:20260421T072617
CREATED:20260325T062617Z
LAST-MODIFIED:20260325T062617Z
UID:60266-1804291200-1805327999@friendsteam.ru
SUMMARY:БОЛЬШОЕ ПУТЕШЕСТВИЕ ПО МАРОККО
DESCRIPTION:Большое путешествие мечты в Марокко\, загадочную и удивительную страну. Посетим города: Маракеш\,\, Имлиль\, Айт-Бен-Хадду\, Фес\, Касабланка\, Шефшауэн и Эс-Сувейра с узкими улочками и людными шумными мединами. Увидим Атлантический океан\, переночуем в пустыне Сахара\, покатаемся на верблюдах\, встретим космические рассветы и закаты и совершим несложное  восхождение на гору Тубкаль (4167 м)\, высочайшую гору Северной Африки. \n1900 € / 12 дней
URL:https://friendsteam.ru/travel/bolshoe-puteshestvie-po-marokko/
CATEGORIES:Восхождения
END:VEVENT
END:VCALENDAR