BEGIN:VCALENDAR
VERSION:2.0
PRODID:-//ДРУЗЬЯ - ECPv6.10.3//NONSGML v1.0//EN
CALSCALE:GREGORIAN
METHOD:PUBLISH
X-WR-CALNAME:ДРУЗЬЯ
X-ORIGINAL-URL:https://friendsteam.ru
X-WR-CALDESC:Мероприятия для ДРУЗЬЯ
REFRESH-INTERVAL;VALUE=DURATION:PT1H
X-Robots-Tag:noindex
X-PUBLISHED-TTL:PT1H
BEGIN:VTIMEZONE
TZID:Europe/Moscow
BEGIN:STANDARD
TZOFFSETFROM:+0300
TZOFFSETTO:+0300
TZNAME:MSK
DTSTART:20250101T000000
END:STANDARD
END:VTIMEZONE
BEGIN:VEVENT
DTSTART;VALUE=DATE:20251214
DTEND;VALUE=DATE:20251215
DTSTAMP:20260421T072652
CREATED:20251125T142348Z
LAST-MODIFIED:20260304T170823Z
UID:57267-1765670400-1765756799@friendsteam.ru
SUMMARY:ГОСТИНИЦА ЛЕНИНГРАДСКАЯ
DESCRIPTION:Гостиница «Ленинградская — одна из семи сталинских высоток. Самая маленькая\, но самая нарядная\, внутри напоминающая сказочные чертоги с богатым убранством. Внутри мы будем рассматривать оригинальные росписи интерьеров гениальных мастеров советской эпохи\, посмотрим на уникальные люстры\, решётки\, легендарную дверь-вертушку\, шикарные вазы и красивые панно. А в конце экскурсии нас ждёт атмосферное чаепитие в одном из роскошных залов. \n2600 ₽ / 1 день
URL:https://friendsteam.ru/travel/gostinitsa-leningradskaya-12/
CATEGORIES:Экскурсии
END:VEVENT
BEGIN:VEVENT
DTSTART;VALUE=DATE:20251214
DTEND;VALUE=DATE:20251215
DTSTAMP:20260421T072652
CREATED:20251121T090718Z
LAST-MODIFIED:20260116T160405Z
UID:57182-1765670400-1765756799@friendsteam.ru
SUMMARY:КРАСНЫЙ КВАДРАТ МАЛЕВИЧА
DESCRIPTION:Стартуем утром из Москвы и двигаемся в Подмосковье! Дикий лес\, лесопарки и невероятные арт-объекты Парка Малевича в дневное время. Ждём вас на уютных тропах авангардного искусства! Мы пройдем через 4 лесопарка (лесопарк Кунцево\, Ромашковский лес\, Парк Малевича\, парк Раздолье)\, подробно изучим парк Малевича\, приобщимся к современному искусству и увидим 20! мощных арт-объектов. \n16 км / 2300 ₽ / 1 день
URL:https://friendsteam.ru/travel/v-krasnyj-kvadrat-malevicha-2/
CATEGORIES:Подмосковье
END:VEVENT
BEGIN:VEVENT
DTSTART;VALUE=DATE:20251213
DTEND;VALUE=DATE:20251214
DTSTAMP:20260421T072652
CREATED:20251112T175744Z
LAST-MODIFIED:20260129T063033Z
UID:56957-1765584000-1765670399@friendsteam.ru
SUMMARY:ИТАЛЬЯНСКИЙ ПАЛАЦЦО
DESCRIPTION:Предлагаем вам побывать в Италии и увидеть собственными глазами итальянский Ренессанс на московской экскурсии! Это роскошный особняк возле Патриарших прудов\, на Спиридоновке. Многие видели его снаружи\, но не знают\, что там внутри и как туда попасть. Этот дом построил архитектор Иван Жолтовский в стиле итальянского ренессанса конца 16 века\, для богатого купца Г. Тарасова. Сейчас в особняке находится Институт Африки\, с необычной атмосферой внутри\, доступ ограничен. \n2100 ₽ / 1 день
URL:https://friendsteam.ru/travel/italyanskij-palatstso-7/
CATEGORIES:Экскурсии
END:VEVENT
BEGIN:VEVENT
DTSTART;VALUE=DATE:20251213
DTEND;VALUE=DATE:20251214
DTSTAMP:20260421T072652
CREATED:20251111T154744Z
LAST-MODIFIED:20260116T161746Z
UID:56896-1765584000-1765670399@friendsteam.ru
SUMMARY:ТРИ УСАДЬБЫ
DESCRIPTION:Цель этого похода сходить пешком за один день в три известные Подмосковные усадьбы: Ивановское\, Дубровицы и Остафьево. Мы пойдем тенистой извилистой тропой вдоль рек Пахра и Десна и нас будет окружать великолепная природа Подмосковья. По пути мы будем заходить и осматривать архитектуру и парки усадеб и приготовим горячий обед на костре. (Московская область)  \n21 км / 2200 ₽ / 1 день
URL:https://friendsteam.ru/travel/tri-usadby-37/
CATEGORIES:Подмосковье
END:VEVENT
BEGIN:VEVENT
DTSTART;VALUE=DATE:20251207
DTEND;VALUE=DATE:20251208
DTSTAMP:20260421T072652
CREATED:20251123T192930Z
LAST-MODIFIED:20260309T122954Z
UID:57232-1765065600-1765151999@friendsteam.ru
SUMMARY:ПУТЬ ИМПРЕССИОНИЗМА
DESCRIPTION:Приглашаем вас окунуться в удивительную атмосферу импрессионизма\, посетив уникальную экспозицию Галереи искусства Европы и Америки Пушкинского музея. История этой коллекции началась на рубеже XIX и ХХ столетий\, когда коллекционеры Сергей Щукин и Иван Морозов познакомившись с новым искусством Франции\, начали покупать лучшие картины и перевозить их в Москву. Их приобретения\, дополняя друг друга\, соединились в невероятное собрание\, которое можно назвать энциклопедией импрессионизма. \n2300 ₽ / 1 день
URL:https://friendsteam.ru/travel/put-impressionizma-11/
CATEGORIES:Экскурсии
END:VEVENT
BEGIN:VEVENT
DTSTART;VALUE=DATE:20251207
DTEND;VALUE=DATE:20251208
DTSTAMP:20260421T072652
CREATED:20251110T123720Z
LAST-MODIFIED:20251110T123720Z
UID:56870-1765065600-1765151999@friendsteam.ru
SUMMARY:ЧЕРЕЗ СКИТ В ЛАВРУ
DESCRIPTION:Наш путь в Троице-Сергиеву Лавру будет весьма необычным — мы пойдем по живописным дорогам\, лесным дорожкам\, тропам и тропинкам через Гефсиманский Черниговский Скит. На нашем пути будут озера и пруды\, лесопарки и конечно же\, много леса\, в котором в начале прошлого века любил охотиться знаменитый писатель Михаил Пришвин. (Московская область)  \n17 км / 2200 ₽ / 1 день
URL:https://friendsteam.ru/travel/cherez-skit-v-lavru-23/
CATEGORIES:Подмосковье
END:VEVENT
BEGIN:VEVENT
DTSTART;VALUE=DATE:20251206
DTEND;VALUE=DATE:20251207
DTSTAMP:20260421T072652
CREATED:20250428T121112Z
LAST-MODIFIED:20251217T123212Z
UID:49682-1764979200-1765065599@friendsteam.ru
SUMMARY:FRIENDS TEAM ULTRA 50
DESCRIPTION:В походе FRIENDS TEAM ULTRA 50 мы сделаем именно это – пройдем пешком 50 км за один день. Наш путь пройдет по диким и комфортным тропинкам и тропам\, дорогам и дорожкам. Маршрут несложный\, проходимая пересеченная местность и немного городской населёнки. Красивейший – именно этот эпитет наиболее подходит к нашему ультрамарафону! (Москва и Подмосковье) \n50 км / 4500 ₽ / 1 день
URL:https://friendsteam.ru/travel/friends-team-ultra-50-11/
CATEGORIES:Восхождения
END:VEVENT
END:VCALENDAR